Workbook

Sheet Totalizare
B1: DECLARAȚIA de fabricare și/sau de circulație a producției alcoolice pentru anul 2025
B3: Categoria de băuturi | C3: Cantitatea fabricată în anul 2025 | E3: Cantitatea importată în anul 2025 | G3: Stoc (la data de 31 decembrie) | I3: Notă
C5: mii dal | D5: mii sticle | E5: mi dal | F5: mii sticle | G5: mii dal | H5: mii sticle
B6: Băuturi ce conțin alcool, total | C6: =C8+C10+C12+C14 -> 0 | D6: =D8+D10+D12+D14 -> 0 | E6: =E8+E10+E12+E14 -> 0 | F6: =F8+F10+F12+F14 -> 0 | G6: =G8+G10+G12+G14 -> 0 | H6: =H8+H10+H12+H14 -> 0
B7: Inclusiv:
B8: Băuturi slab alcoolice, total: | C8: ='Bardar SRL'!C9+'Exemplu 1 (2)'!C9+'Exemplu 1 (3)'!C9+'Exemplu 1 (4)'!C9+'Exemplu 1 (5)'!C9+'Exemplu 1 (6)'!C9+'Exemplu 1 (7)'!C9+'Exemplu 1 (8)'!C9 -> 0 | D8: ='Bardar SRL'!D9+'Exemplu 1 (2)'!D9+'Exemplu 1 (3)'!D9+'Exemplu 1 (4)'!D9+'Exemplu 1 (5)'!D9+'Exemplu 1 (6)'!D9+'Exemplu 1 (7)'!D9+'Exemplu 1 (8)'!D9 -> 0 | E8: ='Bardar SRL'!E9+'Exemplu 1 (2)'!E9+'Exemplu 1 (3)'!E9+'Exemplu 1 (4)'!E9+'Exemplu 1 (5)'!E9+'Exemplu 1 (6)'!E9+'Exemplu 1 (7)'!E9+'Exemplu 1 (8)'!E9 -> 0 | F8: ='Bardar SRL'!F9+'Exemplu 1 (2)'!F9+'Exemplu 1 (3)'!F9+'Exemplu 1 (4)'!F9+'Exemplu 1 (5)'!F9+'Exemplu 1 (6)'!F9+'Exemplu 1 (7)'!F9+'Exemplu 1 (8)'!F9 -> 0 | G8: ='Bardar SRL'!G9+'Exemplu 1 (2)'!G9+'Exemplu 1 (3)'!G9+'Exemplu 1 (4)'!G9+'Exemplu 1 (5)'!G9+'Exemplu 1 (6)'!G9+'Exemplu 1 (7)'!G9+'Exemplu 1 (8)'!G9 -> 0 | H8: ='Bardar SRL'!H9+'Exemplu 1 (2)'!H9+'Exemplu 1 (3)'!H9+'Exemplu 1 (4)'!H9+'Exemplu 1 (5)'!H9+'Exemplu 1 (6)'!H9+'Exemplu 1 (7)'!H9+'Exemplu 1 (8)'!H9 -> 0
B9: Inclusiv: (de specificat categoria de băutură conform anexei nr. 1)
B10: Băuturi alcoolice cu un conținut redus de alcool, total: | C10: ='Bardar SRL'!C14+'Exemplu 1 (2)'!C14+'Exemplu 1 (3)'!C14+'Exemplu 1 (4)'!C14+'Exemplu 1 (5)'!C14+'Exemplu 1 (6)'!C14+'Exemplu 1 (7)'!C14+'Exemplu 1 (8)'!C14 -> 0 | D10: ='Bardar SRL'!D14+'Exemplu 1 (2)'!D14+'Exemplu 1 (3)'!D14+'Exemplu 1 (4)'!D14+'Exemplu 1 (5)'!D14+'Exemplu 1 (6)'!D14+'Exemplu 1 (7)'!D14+'Exemplu 1 (8)'!D14 -> 0 | E10: ='Bardar SRL'!E14+'Exemplu 1 (2)'!E14+'Exemplu 1 (3)'!E14+'Exemplu 1 (4)'!E14+'Exemplu 1 (5)'!E14+'Exemplu 1 (6)'!E14+'Exemplu 1 (7)'!E14+'Exemplu 1 (8)'!E14 -> 0 | F10: ='Bardar SRL'!F14+'Exemplu 1 (2)'!F14+'Exemplu 1 (3)'!F14+'Exemplu 1 (4)'!F14+'Exemplu 1 (5)'!F14+'Exemplu 1 (6)'!F14+'Exemplu 1 (7)'!F14+'Exemplu 1 (8)'!F14 -> 0 | G10: ='Bardar SRL'!G14+'Exemplu 1 (2)'!G14+'Exemplu 1 (3)'!G14+'Exemplu 1 (4)'!G14+'Exemplu 1 (5)'!G14+'Exemplu 1 (6)'!G14+'Exemplu 1 (7)'!G14+'Exemplu 1 (8)'!G14 -> 0 | H10: ='Bardar SRL'!H14+'Exemplu 1 (2)'!H14+'Exemplu 1 (3)'!H14+'Exemplu 1 (4)'!H14+'Exemplu 1 (5)'!H14+'Exemplu 1 (6)'!H14+'Exemplu 1 (7)'!H14+'Exemplu 1 (8)'!H14 -> 0
B11: Inclusiv: (de specificat categoria de băutură conform anexei nr. 1)
B12: Băuturi spirtoase (Băuturi alcoolice), total: | C12: ='Bardar SRL'!C18+'Exemplu 1 (2)'!C18+'Exemplu 1 (3)'!C18+'Exemplu 1 (4)'!C18+'Exemplu 1 (5)'!C18+'Exemplu 1 (6)'!C18+'Exemplu 1 (7)'!C18+'Exemplu 1 (8)'!C18 -> 0 | D12: ='Bardar SRL'!D18+'Exemplu 1 (2)'!D18+'Exemplu 1 (3)'!D18+'Exemplu 1 (4)'!D18+'Exemplu 1 (5)'!D18+'Exemplu 1 (6)'!D18+'Exemplu 1 (7)'!D18+'Exemplu 1 (8)'!D18 -> 0 | E12: ='Bardar SRL'!E18+'Exemplu 1 (2)'!E18+'Exemplu 1 (3)'!E18+'Exemplu 1 (4)'!E18+'Exemplu 1 (5)'!E18+'Exemplu 1 (6)'!E18+'Exemplu 1 (7)'!E18+'Exemplu 1 (8)'!E18 -> 0 | F12: ='Bardar SRL'!F18+'Exemplu 1 (2)'!F18+'Exemplu 1 (3)'!F18+'Exemplu 1 (4)'!F18+'Exemplu 1 (5)'!F18+'Exemplu 1 (6)'!F18+'Exemplu 1 (7)'!F18+'Exemplu 1 (8)'!F18 -> 0 | G12: ='Bardar SRL'!G18+'Exemplu 1 (2)'!G18+'Exemplu 1 (3)'!G18+'Exemplu 1 (4)'!G18+'Exemplu 1 (5)'!G18+'Exemplu 1 (6)'!G18+'Exemplu 1 (7)'!G18+'Exemplu 1 (8)'!G18 -> 0 | H12: ='Bardar SRL'!H18+'Exemplu 1 (2)'!H18+'Exemplu 1 (3)'!H18+'Exemplu 1 (4)'!H18+'Exemplu 1 (5)'!H18+'Exemplu 1 (6)'!H18+'Exemplu 1 (7)'!H18+'Exemplu 1 (8)'!H18 -> 0
B13: Inclusiv: (de specificat categoria de băutură conform anexei nr. 1)
B14: Băuturi spirtoase cu concentrația alcoolică de la 25 % vol. (Băuturi alcoolice tari), total | C14: ='Bardar SRL'!C23+'Exemplu 1 (2)'!C23+'Exemplu 1 (3)'!C23+'Exemplu 1 (4)'!C23+'Exemplu 1 (5)'!C23+'Exemplu 1 (6)'!C23+'Exemplu 1 (7)'!C23+'Exemplu 1 (8)'!C23 -> 0 | D14: ='Bardar SRL'!D23+'Exemplu 1 (2)'!D23+'Exemplu 1 (3)'!D23+'Exemplu 1 (4)'!D23+'Exemplu 1 (5)'!D23+'Exemplu 1 (6)'!D23+'Exemplu 1 (7)'!D23+'Exemplu 1 (8)'!D23 -> 0 | E14: ='Bardar SRL'!E23+'Exemplu 1 (2)'!E23+'Exemplu 1 (3)'!E23+'Exemplu 1 (4)'!E23+'Exemplu 1 (5)'!E23+'Exemplu 1 (6)'!E23+'Exemplu 1 (7)'!E23+'Exemplu 1 (8)'!E23 -> 0 | F14: ='Bardar SRL'!F23+'Exemplu 1 (2)'!F23+'Exemplu 1 (3)'!F23+'Exemplu 1 (4)'!F23+'Exemplu 1 (5)'!F23+'Exemplu 1 (6)'!F23+'Exemplu 1 (7)'!F23+'Exemplu 1 (8)'!F23 -> 0 | G14: ='Bardar SRL'!G23+'Exemplu 1 (2)'!G23+'Exemplu 1 (3)'!G23+'Exemplu 1 (4)'!G23+'Exemplu 1 (5)'!G23+'Exemplu 1 (6)'!G23+'Exemplu 1 (7)'!G23+'Exemplu 1 (8)'!G23 -> 0 | H14: ='Bardar SRL'!H23+'Exemplu 1 (2)'!H23+'Exemplu 1 (3)'!H23+'Exemplu 1 (4)'!H23+'Exemplu 1 (5)'!H23+'Exemplu 1 (6)'!H23+'Exemplu 1 (7)'!H23+'Exemplu 1 (8)'!H23 -> 0
B15: Inclusiv: (de specificat categoria de băutură conform anexei nr. 1) | C15: ='Bardar SRL'!C24+'Exemplu 1 (2)'!C24+'Exemplu 1 (3)'!C24+'Exemplu 1 (4)'!C24+'Exemplu 1 (5)'!C24+'Exemplu 1 (6)'!C24+'Exemplu 1 (7)'!C24+'Exemplu 1 (8)'!C24 -> 0
B16: Brandy | C16: ='Bardar SRL'!C25+'Exemplu 1 (2)'!C25+'Exemplu 1 (3)'!C25+'Exemplu 1 (4)'!C25+'Exemplu 1 (5)'!C25+'Exemplu 1 (6)'!C25+'Exemplu 1 (7)'!C25+'Exemplu 1 (8)'!C25 -> 0 | D16: ='Bardar SRL'!D25+'Exemplu 1 (2)'!D25+'Exemplu 1 (3)'!D25+'Exemplu 1 (4)'!D25+'Exemplu 1 (5)'!D25+'Exemplu 1 (6)'!D25+'Exemplu 1 (7)'!D25+'Exemplu 1 (8)'!D25 -> 0 | E16: ='Bardar SRL'!E25+'Exemplu 1 (2)'!E25+'Exemplu 1 (3)'!E25+'Exemplu 1 (4)'!E25+'Exemplu 1 (5)'!E25+'Exemplu 1 (6)'!E25+'Exemplu 1 (7)'!E25+'Exemplu 1 (8)'!E25 -> 0 | F16: ='Bardar SRL'!F25+'Exemplu 1 (2)'!F25+'Exemplu 1 (3)'!F25+'Exemplu 1 (4)'!F25+'Exemplu 1 (5)'!F25+'Exemplu 1 (6)'!F25+'Exemplu 1 (7)'!F25+'Exemplu 1 (8)'!F25 -> 0 | G16: ='Bardar SRL'!G25+'Exemplu 1 (2)'!G25+'Exemplu 1 (3)'!G25+'Exemplu 1 (4)'!G25+'Exemplu 1 (5)'!G25+'Exemplu 1 (6)'!G25+'Exemplu 1 (7)'!G25+'Exemplu 1 (8)'!G25 -> 0 | H16: ='Bardar SRL'!H25+'Exemplu 1 (2)'!H25+'Exemplu 1 (3)'!H25+'Exemplu 1 (4)'!H25+'Exemplu 1 (5)'!H25+'Exemplu 1 (6)'!H25+'Exemplu 1 (7)'!H25+'Exemplu 1 (8)'!H25 -> 0
B17: Gin | C17: ='Bardar SRL'!C26+'Exemplu 1 (2)'!C26+'Exemplu 1 (3)'!C26+'Exemplu 1 (4)'!C26+'Exemplu 1 (5)'!C26+'Exemplu 1 (6)'!C26+'Exemplu 1 (7)'!C26+'Exemplu 1 (8)'!C26 -> 0 | D17: ='Bardar SRL'!D26+'Exemplu 1 (2)'!D26+'Exemplu 1 (3)'!D26+'Exemplu 1 (4)'!D26+'Exemplu 1 (5)'!D26+'Exemplu 1 (6)'!D26+'Exemplu 1 (7)'!D26+'Exemplu 1 (8)'!D26 -> 0 | E17: ='Bardar SRL'!E26+'Exemplu 1 (2)'!E26+'Exemplu 1 (3)'!E26+'Exemplu 1 (4)'!E26+'Exemplu 1 (5)'!E26+'Exemplu 1 (6)'!E26+'Exemplu 1 (7)'!E26+'Exemplu 1 (8)'!E26 -> 0 | F17: ='Bardar SRL'!F26+'Exemplu 1 (2)'!F26+'Exemplu 1 (3)'!F26+'Exemplu 1 (4)'!F26+'Exemplu 1 (5)'!F26+'Exemplu 1 (6)'!F26+'Exemplu 1 (7)'!F26+'Exemplu 1 (8)'!F26 -> 0 | G17: ='Bardar SRL'!G26+'Exemplu 1 (2)'!G26+'Exemplu 1 (3)'!G26+'Exemplu 1 (4)'!G26+'Exemplu 1 (5)'!G26+'Exemplu 1 (6)'!G26+'Exemplu 1 (7)'!G26+'Exemplu 1 (8)'!G26 -> 0 | H17: ='Bardar SRL'!H26+'Exemplu 1 (2)'!H26+'Exemplu 1 (3)'!H26+'Exemplu 1 (4)'!H26+'Exemplu 1 (5)'!H26+'Exemplu 1 (6)'!H26+'Exemplu 1 (7)'!H26+'Exemplu 1 (8)'!H26 -> 0
B18: Lichior | C18: ='Bardar SRL'!C27+'Exemplu 1 (2)'!C27+'Exemplu 1 (3)'!C27+'Exemplu 1 (4)'!C27+'Exemplu 1 (5)'!C27+'Exemplu 1 (6)'!C27+'Exemplu 1 (7)'!C27+'Exemplu 1 (8)'!C27 -> 0 | D18: ='Bardar SRL'!D27+'Exemplu 1 (2)'!D27+'Exemplu 1 (3)'!D27+'Exemplu 1 (4)'!D27+'Exemplu 1 (5)'!D27+'Exemplu 1 (6)'!D27+'Exemplu 1 (7)'!D27+'Exemplu 1 (8)'!D27 -> 0 | E18: ='Bardar SRL'!E27+'Exemplu 1 (2)'!E27+'Exemplu 1 (3)'!E27+'Exemplu 1 (4)'!E27+'Exemplu 1 (5)'!E27+'Exemplu 1 (6)'!E27+'Exemplu 1 (7)'!E27+'Exemplu 1 (8)'!E27 -> 0 | F18: ='Bardar SRL'!F27+'Exemplu 1 (2)'!F27+'Exemplu 1 (3)'!F27+'Exemplu 1 (4)'!F27+'Exemplu 1 (5)'!F27+'Exemplu 1 (6)'!F27+'Exemplu 1 (7)'!F27+'Exemplu 1 (8)'!F27 -> 0 | G18: ='Bardar SRL'!G27+'Exemplu 1 (2)'!G27+'Exemplu 1 (3)'!G27+'Exemplu 1 (4)'!G27+'Exemplu 1 (5)'!G27+'Exemplu 1 (6)'!G27+'Exemplu 1 (7)'!G27+'Exemplu 1 (8)'!G27 -> 0 | H18: ='Bardar SRL'!H27+'Exemplu 1 (2)'!H27+'Exemplu 1 (3)'!H27+'Exemplu 1 (4)'!H27+'Exemplu 1 (5)'!H27+'Exemplu 1 (6)'!H27+'Exemplu 1 (7)'!H27+'Exemplu 1 (8)'!H27 -> 0
B19: Rachiu | C19: ='Bardar SRL'!C28+'Exemplu 1 (2)'!C28+'Exemplu 1 (3)'!C28+'Exemplu 1 (4)'!C28+'Exemplu 1 (5)'!C28+'Exemplu 1 (6)'!C28+'Exemplu 1 (7)'!C28+'Exemplu 1 (8)'!C28 -> 0 | D19: ='Bardar SRL'!D28+'Exemplu 1 (2)'!D28+'Exemplu 1 (3)'!D28+'Exemplu 1 (4)'!D28+'Exemplu 1 (5)'!D28+'Exemplu 1 (6)'!D28+'Exemplu 1 (7)'!D28+'Exemplu 1 (8)'!D28 -> 0 | E19: ='Bardar SRL'!E28+'Exemplu 1 (2)'!E28+'Exemplu 1 (3)'!E28+'Exemplu 1 (4)'!E28+'Exemplu 1 (5)'!E28+'Exemplu 1 (6)'!E28+'Exemplu 1 (7)'!E28+'Exemplu 1 (8)'!E28 -> 0 | F19: ='Bardar SRL'!F28+'Exemplu 1 (2)'!F28+'Exemplu 1 (3)'!F28+'Exemplu 1 (4)'!F28+'Exemplu 1 (5)'!F28+'Exemplu 1 (6)'!F28+'Exemplu 1 (7)'!F28+'Exemplu 1 (8)'!F28 -> 0 | G19: ='Bardar SRL'!G28+'Exemplu 1 (2)'!G28+'Exemplu 1 (3)'!G28+'Exemplu 1 (4)'!G28+'Exemplu 1 (5)'!G28+'Exemplu 1 (6)'!G28+'Exemplu 1 (7)'!G28+'Exemplu 1 (8)'!G28 -> 0 | H19: ='Bardar SRL'!H28+'Exemplu 1 (2)'!H28+'Exemplu 1 (3)'!H28+'Exemplu 1 (4)'!H28+'Exemplu 1 (5)'!H28+'Exemplu 1 (6)'!H28+'Exemplu 1 (7)'!H28+'Exemplu 1 (8)'!H28 -> 0
B20: Rachiu de vin | C20: ='Bardar SRL'!C29+'Exemplu 1 (2)'!C29+'Exemplu 1 (3)'!C29+'Exemplu 1 (4)'!C29+'Exemplu 1 (5)'!C29+'Exemplu 1 (6)'!C29+'Exemplu 1 (7)'!C29+'Exemplu 1 (8)'!C29 -> 0 | D20: ='Bardar SRL'!D29+'Exemplu 1 (2)'!D29+'Exemplu 1 (3)'!D29+'Exemplu 1 (4)'!D29+'Exemplu 1 (5)'!D29+'Exemplu 1 (6)'!D29+'Exemplu 1 (7)'!D29+'Exemplu 1 (8)'!D29 -> 0 | E20: ='Bardar SRL'!E29+'Exemplu 1 (2)'!E29+'Exemplu 1 (3)'!E29+'Exemplu 1 (4)'!E29+'Exemplu 1 (5)'!E29+'Exemplu 1 (6)'!E29+'Exemplu 1 (7)'!E29+'Exemplu 1 (8)'!E29 -> 0 | F20: ='Bardar SRL'!F29+'Exemplu 1 (2)'!F29+'Exemplu 1 (3)'!F29+'Exemplu 1 (4)'!F29+'Exemplu 1 (5)'!F29+'Exemplu 1 (6)'!F29+'Exemplu 1 (7)'!F29+'Exemplu 1 (8)'!F29 -> 0 | G20: ='Bardar SRL'!G29+'Exemplu 1 (2)'!G29+'Exemplu 1 (3)'!G29+'Exemplu 1 (4)'!G29+'Exemplu 1 (5)'!G29+'Exemplu 1 (6)'!G29+'Exemplu 1 (7)'!G29+'Exemplu 1 (8)'!G29 -> 0 | H20: ='Bardar SRL'!H29+'Exemplu 1 (2)'!H29+'Exemplu 1 (3)'!H29+'Exemplu 1 (4)'!H29+'Exemplu 1 (5)'!H29+'Exemplu 1 (6)'!H29+'Exemplu 1 (7)'!H29+'Exemplu 1 (8)'!H29 -> 0
B21: Vodcă | C21: ='Bardar SRL'!C30+'Exemplu 1 (2)'!C30+'Exemplu 1 (3)'!C30+'Exemplu 1 (4)'!C30+'Exemplu 1 (5)'!C30+'Exemplu 1 (6)'!C30+'Exemplu 1 (7)'!C30+'Exemplu 1 (8)'!C30 -> 0 | D21: ='Bardar SRL'!D30+'Exemplu 1 (2)'!D30+'Exemplu 1 (3)'!D30+'Exemplu 1 (4)'!D30+'Exemplu 1 (5)'!D30+'Exemplu 1 (6)'!D30+'Exemplu 1 (7)'!D30+'Exemplu 1 (8)'!D30 -> 0 | E21: ='Bardar SRL'!E30+'Exemplu 1 (2)'!E30+'Exemplu 1 (3)'!E30+'Exemplu 1 (4)'!E30+'Exemplu 1 (5)'!E30+'Exemplu 1 (6)'!E30+'Exemplu 1 (7)'!E30+'Exemplu 1 (8)'!E30 -> 0 | F21: ='Bardar SRL'!F30+'Exemplu 1 (2)'!F30+'Exemplu 1 (3)'!F30+'Exemplu 1 (4)'!F30+'Exemplu 1 (5)'!F30+'Exemplu 1 (6)'!F30+'Exemplu 1 (7)'!F30+'Exemplu 1 (8)'!F30 -> 0 | G21: ='Bardar SRL'!G30+'Exemplu 1 (2)'!G30+'Exemplu 1 (3)'!G30+'Exemplu 1 (4)'!G30+'Exemplu 1 (5)'!G30+'Exemplu 1 (6)'!G30+'Exemplu 1 (7)'!G30+'Exemplu 1 (8)'!G30 -> 0 | H21: ='Bardar SRL'!H30+'Exemplu 1 (2)'!H30+'Exemplu 1 (3)'!H30+'Exemplu 1 (4)'!H30+'Exemplu 1 (5)'!H30+'Exemplu 1 (6)'!H30+'Exemplu 1 (7)'!H30+'Exemplu 1 (8)'!H30 -> 0
B22: Whisky | C22: ='Bardar SRL'!C31+'Exemplu 1 (2)'!C31+'Exemplu 1 (3)'!C31+'Exemplu 1 (4)'!C31+'Exemplu 1 (5)'!C31+'Exemplu 1 (6)'!C31+'Exemplu 1 (7)'!C31+'Exemplu 1 (8)'!C31 -> 0 | D22: ='Bardar SRL'!D31+'Exemplu 1 (2)'!D31+'Exemplu 1 (3)'!D31+'Exemplu 1 (4)'!D31+'Exemplu 1 (5)'!D31+'Exemplu 1 (6)'!D31+'Exemplu 1 (7)'!D31+'Exemplu 1 (8)'!D31 -> 0 | E22: ='Bardar SRL'!E31+'Exemplu 1 (2)'!E31+'Exemplu 1 (3)'!E31+'Exemplu 1 (4)'!E31+'Exemplu 1 (5)'!E31+'Exemplu 1 (6)'!E31+'Exemplu 1 (7)'!E31+'Exemplu 1 (8)'!E31 -> 0 | F22: ='Bardar SRL'!F31+'Exemplu 1 (2)'!F31+'Exemplu 1 (3)'!F31+'Exemplu 1 (4)'!F31+'Exemplu 1 (5)'!F31+'Exemplu 1 (6)'!F31+'Exemplu 1 (7)'!F31+'Exemplu 1 (8)'!F31 -> 0 | G22: ='Bardar SRL'!G31+'Exemplu 1 (2)'!G31+'Exemplu 1 (3)'!G31+'Exemplu 1 (4)'!G31+'Exemplu 1 (5)'!G31+'Exemplu 1 (6)'!G31+'Exemplu 1 (7)'!G31+'Exemplu 1 (8)'!G31 -> 0 | H22: ='Bardar SRL'!H31+'Exemplu 1 (2)'!H31+'Exemplu 1 (3)'!H31+'Exemplu 1 (4)'!H31+'Exemplu 1 (5)'!H31+'Exemplu 1 (6)'!H31+'Exemplu 1 (7)'!H31+'Exemplu 1 (8)'!H31 -> 0

Sheet Bardar SRL
B1: DECLARAȚIA de fabricare și/sau de circulație a producției alcoolice pentru anul 2024
B2: Datele declarantului:
B3: Denumirea agentului economic, forma organizatorică juridică, codul fiscal/IDNO
B4: Seria, numărul şi data eliberării licenţei, termenul de valabilitate al licenţei
B5: Genul de activitate licenţiat
B6: Adresa juridică şi adresa de desfăşurare a genului de activitate licenţiat
B7: Tel.; e-mail
B8: Datele declarate despre produs:
B9: Băuturi slab alcoolice, total: | C9: =SUM(C10:C13) -> 0 | D9: =SUM(D10:D13) -> 0 | E9: =SUM(E10:E13) -> 0 | F9: =SUM(F10:F13) -> 0 | G9: =SUM(G10:G13) -> 0 | H9: =SUM(H10:H13) -> 0
B10: Inclusiv: (de specificat categoria de băutură conform anexei nr. 1)
B11: 1 denumire
B12: 2 denumire
B13: 3 denumire
B14: Băuturi alcoolice cu un conținut redus de alcool, total: | C14: =SUM(C15:C17) -> 0 | D14: =SUM(D15:D17) -> 0 | E14: =SUM(E15:E17) -> 0 | F14: =SUM(F15:F17) -> 0 | G14: =SUM(G15:G17) -> 0 | H14: =SUM(H15:H17) -> 0
B15: Inclusiv: (de specificat categoria de băutură conform anexei nr. 1)
B16: 1 denumire
B17: 2 denumire
B18: Băuturi spirtoase (Băuturi alcoolice), total: | C18: =SUM(C19:C22) -> 0 | D18: =SUM(D19:D22) -> 0 | E18: =SUM(E19:E22) -> 0 | F18: =SUM(F19:F22) -> 0 | G18: =SUM(G19:G22) -> 0 | H18: =SUM(H19:H22) -> 0
B19: Inclusiv: (de specificat categoria de băutură conform anexei nr. 1)
B20: 1 denumire
B21: 2 denumire
B22: 3 denumire
B23: Băuturi spirtoase cu concentrația alcoolică de la 25 % vol. (Băuturi alcoolice tari), total | C23: =SUM(C24:C74) -> 0 | D23: =SUM(D24:D74) -> 0 | E23: =SUM(E24:E74) -> 0 | F23: =SUM(F24:F74) -> 0 | G23: =SUM(G24:G74) -> 0 | H23: =SUM(H24:H74) -> 0
B24: Inclusiv: (de specificat categoria de băutură conform anexei nr. 1)
B25: Brandy
B26: Gin
B27: Lichior
B28: Rachiu
B29: Rachiu de vin
B30: Vodcă
B31: Whisky
B32: Rachiu de vin învechit 5 ani Gubernator 0,5l
B33: Rachiu de vin învechit 5 ani Premier 0,2l
B34: Rachiu de vin învechit 3 ani Premier 0,5l
B35: Rachiu de vin învechit 5 ani Premier 0,5l
... B74: Lichior crema de Ciocolata Angelli 0,5l

Sheet Exemplu 1 (2)
B1: DECLARAȚIA de fabricare și/sau de circulație a producției alcoolice pentru anul 2024
B2: Datele declarantului:
B3: Denumirea agentului economic, forma organizatorică juridică, codul fiscal/IDNO
B4: Seria, numărul şi data eliberării licenţei, termenul de valabilitate al licenţei
B5: Genul de activitate licenţiat
B6: Adresa juridică şi adresa de desfăşurare a genului de activitate licenţiat
B7: Tel.; e-mail
B8: Datele declarate despre produs:
B9: Băuturi slab alcoolice, total: | C9: =SUM(C10:C13) -> 0 | D9: =SUM(D10:D13) -> 0 | E9: =SUM(E10:E13) -> 0 | F9: =SUM(F10:F13) -> 0 | G9: =SUM(G10:G13) -> 0 | H9: =SUM(H10:H13) -> 0
B10: Inclusiv: (de specificat categoria de băutură conform anexei nr. 1)
B11: 1 denumire
B12: 2 denumire
B13: 3 denumire
B14: Băuturi alcoolice cu un conținut redus de alcool, total: | C14: =SUM(C15:C17) -> 0 | D14: =SUM(D15:D17) -> 0 | E14: =SUM(E15:E17) -> 0 | F14: =SUM(F15:F17) -> 0 | G14: =SUM(G15:G17) -> 0 | H14: =SUM(H15:H17) -> 0
B15: Inclusiv: (de specificat categoria de băutură conform anexei nr. 1)
B16: 1 denumire
B17: 2 denumire
B18: Băuturi spirtoase (Băuturi alcoolice), total: | C18: =SUM(C19:C22) -> 0 | D18: =SUM(D19:D22) -> 0 | E18: =SUM(E19:E22) -> 0 | F18: =SUM(F19:F22) -> 0 | G18: =SUM(G19:G22) -> 0 | H18: =SUM(H19:H22) -> 0
B19: Inclusiv: (de specificat categoria de băutură conform anexei nr. 1)
B20: 1 denumire
B21: 2 denumire
B22: 3 denumire
B23: Băuturi spirtoase cu concentrația alcoolică de la 25 % vol. (Băuturi alcoolice tari), total | C23: =SUM(C24:C74) -> 0 | D23: =SUM(D24:D74) -> 0 | E23: =SUM(E24:E74) -> 0 | F23: =SUM(F24:F74) -> 0 | G23: =SUM(G24:G74) -> 0 | H23: =SUM(H24:H74) -> 0
B24: Inclusiv: (de specificat categoria de băutură conform anexei nr. 1)
B25: Brandy
B26: Gin
B27: Lichior
B28: Rachiu
B29: Rachiu de vin
B30: Vodcă
B31: Whisky
B32: Rachiu de vin învechit 5 ani Gubernator 0,5l
B33: Rachiu de vin învechit 5 ani Premier 0,2l
B34: Rachiu de vin învechit 3 ani Premier 0,5l
B35: Rachiu de vin învechit 5 ani Premier 0,5l
... B74: Lichior crema de Ciocolata Angelli 0,5l

Sheet Exemplu 1 (3)
B1: DECLARAȚIA de fabricare și/sau de circulație a producției alcoolice pentru anul 2024
B2: Datele declarantului:
B3: Denumirea agentului economic, forma organizatorică juridică, codul fiscal/IDNO
B4: Seria, numărul şi data eliberării licenţei, termenul de valabilitate al licenţei
B5: Genul de activitate licenţiat
B6: Adresa juridică şi adresa de desfăşurare a genului de activitate licenţiat
B7: Tel.; e-mail
B8: Datele declarate despre produs:
B9: Băuturi slab alcoolice, total: | C9: =SUM(C10:C13) -> 0 | D9: =SUM(D10:D13) -> 0 | E9: =SUM(E10:E13) -> 0 | F9: =SUM(F10:F13) -> 0 | G9: =SUM(G10:G13) -> 0 | H9: =SUM(H10:H13) -> 0
B10: Inclusiv: (de specificat categoria de băutură conform anexei nr. 1)
B11: 1 denumire
B12: 2 denumire
B13: 3 denumire
B14: Băuturi alcoolice cu un conținut redus de alcool, total: | C14: =SUM(C15:C17) -> 0 | D14: =SUM(D15:D17) -> 0 | E14: =SUM(E15:E17) -> 0 | F14: =SUM(F15:F17) -> 0 | G14: =SUM(G15:G17) -> 0 | H14: =SUM(H15:H17) -> 0
B15: Inclusiv: (de specificat categoria de băutură conform anexei nr. 1)
B16: 1 denumire
B17: 2 denumire
B18: Băuturi spirtoase (Băuturi alcoolice), total: | C18: =SUM(C19:C22) -> 0 | D18: =SUM(D19:D22) -> 0 | E18: =SUM(E19:E22) -> 0 | F18: =SUM(F19:F22) -> 0 | G18: =SUM(G19:G22) -> 0 | H18: =SUM(H19:H22) -> 0
B19: Inclusiv: (de specificat categoria de băutură conform anexei nr. 1)
B20: 1 denumire
B21: 2 denumire
B22: 3 denumire
B23: Băuturi spirtoase cu concentrația alcoolică de la 25 % vol. (Băuturi alcoolice tari), total | C23: =SUM(C24:C74) -> 0 | D23: =SUM(D24:D74) -> 0 | E23: =SUM(E24:E74) -> 0 | F23: =SUM(F24:F74) -> 0 | G23: =SUM(G24:G74) -> 0 | H23: =SUM(H24:H74) -> 0
B24: Inclusiv: (de specificat categoria de băutură conform anexei nr. 1)
B25: Brandy
B26: Gin
B27: Lichior
B28: Rachiu
B29: Rachiu de vin
B30: Vodcă
B31: Whisky
B32: Rachiu de vin învechit 5 ani Gubernator 0,5l
B33: Rachiu de vin învechit 5 ani Premier 0,2l
B34: Rachiu de vin învechit 3 ani Premier 0,5l
B35: Rachiu de vin învechit 5 ani Premier 0,5l
... B74: Lichior crema de Ciocolata Angelli 0,5l

Sheet Exemplu 1 (4)
B1: DECLARAȚIA de fabricare și/sau de circulație a producției alcoolice pentru anul 2024
B2: Datele declarantului:
B3: Denumirea agentului economic, forma organizatorică juridică, codul fiscal/IDNO
B4: Seria, numărul şi data eliberării licenţei, termenul de valabilitate al licenţei
B5: Genul de activitate licenţiat
B6: Adresa juridică şi adresa de desfăşurare a genului de activitate licenţiat
B7: Tel.; e-mail
B8: Datele declarate despre produs:
B9: Băuturi slab alcoolice, total: | C9: =SUM(C10:C13) -> 0 | D9: =SUM(D10:D13) -> 0 | E9: =SUM(E10:E13) -> 0 | F9: =SUM(F10:F13) -> 0 | G9: =SUM(G10:G13) -> 0 | H9: =SUM(H10:H13) -> 0
B10: Inclusiv: (de specificat categoria de băutură conform anexei nr. 1)
B11: 1 denumire
B12: 2 denumire
B13: 3 denumire
B14: Băuturi alcoolice cu un conținut redus de alcool, total: | C14: =SUM(C15:C17) -> 0 | D14: =SUM(D15:D17) -> 0 | E14: =SUM(E15:E17) -> 0 | F14: =SUM(F15:F17) -> 0 | G14: =SUM(G15:G17) -> 0 | H14: =SUM(H15:H17) -> 0
B15: Inclusiv: (de specificat categoria de băutură conform anexei nr. 1)
B16: 1 denumire
B17: 2 denumire
B18: Băuturi spirtoase (Băuturi alcoolice), total: | C18: =SUM(C19:C22) -> 0 | D18: =SUM(D19:D22) -> 0 | E18: =SUM(E19:E22) -> 0 | F18: =SUM(F19:F22) -> 0 | G18: =SUM(G19:G22) -> 0 | H18: =SUM(H19:H22) -> 0
B19: Inclusiv: (de specificat categoria de băutură conform anexei nr. 1)
B20: 1 denumire
B21: 2 denumire
B22: 3 denumire
B23: Băuturi spirtoase cu concentrația alcoolică de la 25 % vol. (Băuturi alcoolice tari), total | C23: =SUM(C24:C74) -> 0 | D23: =SUM(D24:D74) -> 0 | E23: =SUM(E24:E74) -> 0 | F23: =SUM(F24:F74) -> 0 | G23: =SUM(G24:G74) -> 0 | H23: =SUM(H24:H74) -> 0
B24: Inclusiv: (de specificat categoria de băutură conform anexei nr. 1)
B25: Brandy
B26: Gin
B27: Lichior
B28: Rachiu
B29: Rachiu de vin
B30: Vodcă
B31: Whisky
B32: Rachiu de vin învechit 5 ani Gubernator 0,5l
B33: Rachiu de vin învechit 5 ani Premier 0,2l
B34: Rachiu de vin învechit 3 ani Premier 0,5l
B35: Rachiu de vin învechit 5 ani Premier 0,5l
... B74: Lichior crema de Ciocolata Angelli 0,5l

Sheet Exemplu 1 (5)
B1: DECLARAȚIA de fabricare și/sau de circulație a producției alcoolice pentru anul 2024
B2: Datele declarantului:
B3: Denumirea agentului economic, forma organizatorică juridică, codul fiscal/IDNO
B4: Seria, numărul şi data eliberării licenţei, termenul de valabilitate al licenţei
B5: Genul de activitate licenţiat
B6: Adresa juridică şi adresa de desfăşurare a genului de activitate licenţiat
B7: Tel.; e-mail
B8: Datele declarate despre produs:
B9: Băuturi slab alcoolice, total: | C9: =SUM(C10:C13) -> 0 | D9: =SUM(D10:D13) -> 0 | E9: =SUM(E10:E13) -> 0 | F9: =SUM(F10:F13) -> 0 | G9: =SUM(G10:G13) -> 0 | H9: =SUM(H10:H13) -> 0
B10: Inclusiv: (de specificat categoria de băutură conform anexei nr. 1)
B11: 1 denumire
B12: 2 denumire
B13: 3 denumire
B14: Băuturi alcoolice cu un conținut redus de alcool, total: | C14: =SUM(C15:C17) -> 0 | D14: =SUM(D15:D17) -> 0 | E14: =SUM(E15:E17) -> 0 | F14: =SUM(F15:F17) -> 0 | G14: =SUM(G15:G17) -> 0 | H14: =SUM(H15:H17) -> 0
B15: Inclusiv: (de specificat categoria de băutură conform anexei nr. 1)
B16: 1 denumire
B17: 2 denumire
B18: Băuturi spirtoase (Băuturi alcoolice), total: | C18: =SUM(C19:C22) -> 0 | D18: =SUM(D19:D22) -> 0 | E18: =SUM(E19:E22) -> 0 | F18: =SUM(F19:F22) -> 0 | G18: =SUM(G19:G22) -> 0 | H18: =SUM(H19:H22) -> 0
B19: Inclusiv: (de specificat categoria de băutură conform anexei nr. 1)
B20: 1 denumire
B21: 2 denumire
B22: 3 denumire
B23: Băuturi spirtoase cu concentrația alcoolică de la 25 % vol. (Băuturi alcoolice tari), total | C23: =SUM(C24:C74) -> 0 | D23: =SUM(D24:D74) -> 0 | E23: =SUM(E24:E74) -> 0 | F23: =SUM(F24:F74) -> 0 | G23: =SUM(G24:G74) -> 0 | H23: =SUM(H24:H74) -> 0
B24: Inclusiv: (de specificat categoria de băutură conform anexei nr. 1)
B25: Brandy
B26: Gin
B27: Lichior
B28: Rachiu
B29: Rachiu de vin
B30: Vodcă
B31: Whisky
B32: Rachiu de vin învechit 5 ani Gubernator 0,5l
B33: Rachiu de vin învechit 5 ani Premier 0,2l
B34: Rachiu de vin învechit 3 ani Premier 0,5l
B35: Rachiu de vin învechit 5 ani Premier 0,5l
... B74: Lichior crema de Ciocolata Angelli 0,5l

Sheet Exemplu 1 (6)
B1: DECLARAȚIA de fabricare și/sau de circulație a producției alcoolice pentru anul 2024
B2: Datele declarantului:
B3: Denumirea agentului economic, forma organizatorică juridică, codul fiscal/IDNO
B4: Seria, numărul şi data eliberării licenţei, termenul de valabilitate al licenţei
B5: Genul de activitate licenţiat
B6: Adresa juridică şi adresa de desfăşurare a genului de activitate licenţiat
B7: Tel.; e-mail
B8: Datele declarate despre produs:
B9: Băuturi slab alcoolice, total: | C9: =SUM(C10:C13) -> 0 | D9: =SUM(D10:D13) -> 0 | E9: =SUM(E10:E13) -> 0 | F9: =SUM(F10:F13) -> 0 | G9: =SUM(G10:G13) -> 0 | H9: =SUM(H10:H13) -> 0
B10: Inclusiv: (de specificat categoria de băutură conform anexei nr. 1)
B11: 1 denumire
B12: 2 denumire
B13: 3 denumire
B14: Băuturi alcoolice cu un conținut redus de alcool, total: | C14: =SUM(C15:C17) -> 0 | D14: =SUM(D15:D17) -> 0 | E14: =SUM(E15:E17) -> 0 | F14: =SUM(F15:F17) -> 0 | G14: =SUM(G15:G17) -> 0 | H14: =SUM(H15:H17) -> 0
B15: Inclusiv: (de specificat categoria de băutură conform anexei nr. 1)
B16: 1 denumire
B17: 2 denumire
B18: Băuturi spirtoase (Băuturi alcoolice), total: | C18: =SUM(C19:C22) -> 0 | D18: =SUM(D19:D22) -> 0 | E18: =SUM(E19:E22) -> 0 | F18: =SUM(F19:F22) -> 0 | G18: =SUM(G19:G22) -> 0 | H18: =SUM(H19:H22) -> 0
B19: Inclusiv: (de specificat categoria de băutură conform anexei nr. 1)
B20: 1 denumire
B21: 2 denumire
B22: 3 denumire
B23: Băuturi spirtoase cu concentrația alcoolică de la 25 % vol. (Băuturi alcoolice tari), total | C23: =SUM(C24:C74) -> 0 | D23: =SUM(D24:D74) -> 0 | E23: =SUM(E24:E74) -> 0 | F23: =SUM(F24:F74) -> 0 | G23: =SUM(G24:G74) -> 0 | H23: =SUM(H24:H74) -> 0
B24: Inclusiv: (de specificat categoria de băutură conform anexei nr. 1)
B25: Brandy
B26: Gin
B27: Lichior
B28: Rachiu
B29: Rachiu de vin
B30: Vodcă
B31: Whisky
B32: Rachiu de vin învechit 5 ani Gubernator 0,5l
B33: Rachiu de vin învechit 5 ani Premier 0,2l
B34: Rachiu de vin învechit 3 ani Premier 0,5l
B35: Rachiu de vin învechit 5 ani Premier 0,5l
... B74: Lichior crema de Ciocolata Angelli 0,5l

Sheet Exemplu 1 (7)
B1: DECLARAȚIA de fabricare și/sau de circulație a producției alcoolice pentru anul 2024
B2: Datele declarantului:
B3: Denumirea agentului economic, forma organizatorică juridică, codul fiscal/IDNO
B4: Seria, numărul şi data eliberării licenţei, termenul de valabilitate al licenţei
B5: Genul de activitate licenţiat
B6: Adresa juridică şi adresa de desfăşurare a genului de activitate licenţiat
B7: Tel.; e-mail
B8: Datele declarate despre produs:
B9: Băuturi slab alcoolice, total: | C9: =SUM(C10:C13) -> 0 | D9: =SUM(D10:D13) -> 0 | E9: =SUM(E10:E13) -> 0 | F9: =SUM(F10:F13) -> 0 | G9: =SUM(G10:G13) -> 0 | H9: =SUM(H10:H13) -> 0
B10: Inclusiv: (de specificat categoria de băutură conform anexei nr. 1)
B11: 1 denumire
B12: 2 denumire
B13: 3 denumire
B14: Băuturi alcoolice cu un conținut redus de alcool, total: | C14: =SUM(C15:C17) -> 0 | D14: =SUM(D15:D17) -> 0 | E14: =SUM(E15:E17) -> 0 | F14: =SUM(F15:F17) -> 0 | G14: =SUM(G15:G17) -> 0 | H14: =SUM(H15:H17) -> 0
B15: Inclusiv: (de specificat categoria de băutură conform anexei nr. 1)
B16: 1 denumire
B17: 2 denumire
B18: Băuturi spirtoase (Băuturi alcoolice), total: | C18: =SUM(C19:C22) -> 0 | D18: =SUM(D19:D22) -> 0 | E18: =SUM(E19:E22) -> 0 | F18: =SUM(F19:F22) -> 0 | G18: =SUM(G19:G22) -> 0 | H18: =SUM(H19:H22) -> 0
B19: Inclusiv: (de specificat categoria de băutură conform anexei nr. 1)
B20: 1 denumire
B21: 2 denumire
B22: 3 denumire
B23: Băuturi spirtoase cu concentrația alcoolică de la 25 % vol. (Băuturi alcoolice tari), total | C23: =SUM(C24:C74) -> 0 | D23: =SUM(D24:D74) -> 0 | E23: =SUM(E24:E74) -> 0 | F23: =SUM(F24:F74) -> 0 | G23: =SUM(G24:G74) -> 0 | H23: =SUM(H24:H74) -> 0
B24: Inclusiv: (de specificat categoria de băutură conform anexei nr. 1)
B25: Brandy
B26: Gin
B27: Lichior
B28: Rachiu
B29: Rachiu de vin
B30: Vodcă
B31: Whisky
B32: Rachiu de vin învechit 5 ani Gubernator 0,5l
B33: Rachiu de vin învechit 5 ani Premier 0,2l
B34: Rachiu de vin învechit 3 ani Premier 0,5l
B35: Rachiu de vin învechit 5 ani Premier 0,5l
... B74: Lichior crema de Ciocolata Angelli 0,5l

Sheet Exemplu 1 (8)
B1: DECLARAȚIA de fabricare și/sau de circulație a producției alcoolice pentru anul 2024
B2: Datele declarantului:
B3: Denumirea agentului economic, forma organizatorică juridică, codul fiscal/IDNO
B4: Seria, numărul şi data eliberării licenţei, termenul de valabilitate al licenţei
B5: Genul de activitate licenţiat
B6: Adresa juridică şi adresa de desfăşurare a genului de activitate licenţiat
B7: Tel.; e-mail
B8: Datele declarate despre produs:
B9: Băuturi slab alcoolice, total: | C9: =SUM(C10:C13) -> 0 | D9: =SUM(D10:D13) -> 0 | E9: =SUM(E10:E13) -> 0 | F9: =SUM(F10:F13) -> 0 | G9: =SUM(G10:G13) -> 0 | H9: =SUM(H10:H13) -> 0
B10: Inclusiv: (de specificat categoria de băutură conform anexei nr. 1)
B11: 1 denumire
B12: 2 denumire
B13: 3 denumire
B14: Băuturi alcoolice cu un conținut redus de alcool, total: | C14: =SUM(C15:C17) -> 0 | D14: =SUM(D15:D17) -> 0 | E14: =SUM(E15:E17) -> 0 | F14: =SUM(F15:F17) -> 0 | G14: =SUM(G15:G17) -> 0 | H14: =SUM(H15:H17) -> 0
B15: Inclusiv: (de specificat categoria de băutură conform anexei nr. 1)
B16: 1 denumire
B17: 2 denumire
B18: Băuturi spirtoase (Băuturi alcoolice), total: | C18: =SUM(C19:C22) -> 0 | D18: =SUM(D19:D22) -> 0 | E18: =SUM(E19:E22) -> 0 | F18: =SUM(F19:F22) -> 0 | G18: =SUM(G19:G22) -> 0 | H18: =SUM(H19:H22) -> 0
B19: Inclusiv: (de specificat categoria de băutură conform anexei nr. 1)
B20: 1 denumire
B21: 2 denumire
B22: 3 denumire
B23: Băuturi spirtoase cu concentrația alcoolică de la 25 % vol. (Băuturi alcoolice tari), total | C23: =SUM(C24:C74) -> 0 | D23: =SUM(D24:D74) -> 0 | E23: =SUM(E24:E74) -> 0 | F23: =SUM(F24:F74) -> 0 | G23: =SUM(G24:G74) -> 0 | H23: =SUM(H24:H74) -> 0
B24: Inclusiv: (de specificat categoria de băutură conform anexei nr. 1)
B25: Brandy
B26: Gin
B27: Lichior
B28: Rachiu
B29: Rachiu de vin
B30: Vodcă
B31: Whisky
B32: Rachiu de vin învechit 5 ani Gubernator 0,5l
B33: Rachiu de vin învechit 5 ani Premier 0,2l
B34: Rachiu de vin învechit 3 ani Premier 0,5l
B35: Rachiu de vin învechit 5 ani Premier 0,5l
... B74: Lichior crema de Ciocolata Angelli 0,5l
